BEGIN:VCALENDAR
VERSION:2.0
PRODID:-//Shopware Community Day
NAME: Shopware Community Day
X-WR-CALNAME:Shopware Community Day
X-WR-TIMEZONE:Europe/Berlin
BEGIN:VEVENT
UID:scd-shopware-nexus-integrations-made-easy@shopware.com
DTSTAMP:20260610T130000Z
DTSTART:20260610T130000Z
DTEND:20260610T133000Z
SUMMARY;LANGUAGE=en:Shopware Nexus: Integrations made easy
DESCRIPTION;LANGUAGE=en:Shopware Nexus: Integrations made easy — Speakers: Albert Scherman (Engineering Lead - Shopware), Samuel Crudge (Technical Product Manager - Shopware)
LOCATION;LANGUAGE=en:Shopware Deep Dive
END:VEVENT
END:VCALENDAR
