BEGIN:VCALENDAR
VERSION:2.0
PRODID:-//Shopware Community Day
NAME: Shopware Community Day
X-WR-CALNAME:Shopware Community Day
X-WR-TIMEZONE:Europe/Berlin
BEGIN:VEVENT
UID:scd-to-be-revealed-15-00@shopware.com
DTSTAMP:20260610T134500Z
DTSTART:20260610T134500Z
DTEND:20260610T143000Z
SUMMARY;LANGUAGE=en:Payments in E-Commerce: What If It Didn’t Have to Be This Complicated?
DESCRIPTION;LANGUAGE=en:Payments in E-Commerce: What If It Didn’t Have to Be This Complicated? — Speakers: Martin Lingens (Product Manager - Shopware)
LOCATION;LANGUAGE=en:Shopware Deep Dive
END:VEVENT
END:VCALENDAR
