BEGIN:VCALENDAR
VERSION:2.0
PRODID:-//Shopware Community Day
NAME: Shopware Community Day
X-WR-CALNAME:Shopware Community Day
X-WR-TIMEZONE:Europe/Berlin
BEGIN:VEVENT
UID:scd-women-in-tech-ecommerce-morning-coffee@shopware.com
DTSTAMP:20260610T070000Z
DTSTART:20260610T070000Z
DTEND:20260610T074500Z
SUMMARY;LANGUAGE=en:Women in Tech & Ecommerce Morning Coffee
DESCRIPTION;LANGUAGE=en:
LOCATION;LANGUAGE=en:Global
END:VEVENT
END:VCALENDAR
